BEGIN:VCALENDAR
VERSION:2.0
PRODID:-//Ontario Cerebral Palsy Sports Association - ECPv6.15.18//NONSGML v1.0//EN
CALSCALE:GREGORIAN
METHOD:PUBLISH
X-WR-CALNAME:Ontario Cerebral Palsy Sports Association
X-ORIGINAL-URL:https://ocpsa.thedev.ca
X-WR-CALDESC:Events for Ontario Cerebral Palsy Sports Association
REFRESH-INTERVAL;VALUE=DURATION:PT1H
X-Robots-Tag:noindex
X-PUBLISHED-TTL:PT1H
BEGIN:VTIMEZONE
TZID:America/Toronto
BEGIN:DAYLIGHT
TZOFFSETFROM:-0500
TZOFFSETTO:-0400
TZNAME:EDT
DTSTART:20250309T070000
END:DAYLIGHT
BEGIN:STANDARD
TZOFFSETFROM:-0400
TZOFFSETTO:-0500
TZNAME:EST
DTSTART:20251102T060000
END:STANDARD
BEGIN:DAYLIGHT
TZOFFSETFROM:-0500
TZOFFSETTO:-0400
TZNAME:EDT
DTSTART:20260308T070000
END:DAYLIGHT
BEGIN:STANDARD
TZOFFSETFROM:-0400
TZOFFSETTO:-0500
TZNAME:EST
DTSTART:20261101T060000
END:STANDARD
BEGIN:DAYLIGHT
TZOFFSETFROM:-0500
TZOFFSETTO:-0400
TZNAME:EDT
DTSTART:20270314T070000
END:DAYLIGHT
BEGIN:STANDARD
TZOFFSETFROM:-0400
TZOFFSETTO:-0500
TZNAME:EST
DTSTART:20271107T060000
END:STANDARD
END:VTIMEZONE
BEGIN:VEVENT
DTSTART;TZID=America/Toronto:20260902T180000
DTEND;TZID=America/Toronto:20260902T200000
DTSTAMP:20260419T113241
CREATED:20250923T181409Z
LAST-MODIFIED:20250923T181409Z
UID:10000202-1788372000-1788379200@ocpsa.thedev.ca
SUMMARY:London Cannonballs
DESCRIPTION:
URL:https://ocpsa.thedev.ca/event/london-cannonballs/2026-09-02/
LOCATION:Stonach Arena & Community Centre\, 1221 Sandford St.\, London\, Ontario\, N5V2J8\, Canada
CATEGORIES:Boccia
ORGANIZER;CN="London Cannonballs":MAILTO:londoncannonballs@gmail.com
END:VEVENT
BEGIN:VEVENT
DTSTART;TZID=America/Toronto:20260909T180000
DTEND;TZID=America/Toronto:20260909T200000
DTSTAMP:20260419T113241
CREATED:20250923T181409Z
LAST-MODIFIED:20250923T181409Z
UID:10000203-1788976800-1788984000@ocpsa.thedev.ca
SUMMARY:London Cannonballs
DESCRIPTION:
URL:https://ocpsa.thedev.ca/event/london-cannonballs/2026-09-09/
LOCATION:Stonach Arena & Community Centre\, 1221 Sandford St.\, London\, Ontario\, N5V2J8\, Canada
CATEGORIES:Boccia
ORGANIZER;CN="London Cannonballs":MAILTO:londoncannonballs@gmail.com
END:VEVENT
BEGIN:VEVENT
DTSTART;TZID=America/Toronto:20260916T180000
DTEND;TZID=America/Toronto:20260916T200000
DTSTAMP:20260419T113241
CREATED:20250923T181409Z
LAST-MODIFIED:20250923T181409Z
UID:10000204-1789581600-1789588800@ocpsa.thedev.ca
SUMMARY:London Cannonballs
DESCRIPTION:
URL:https://ocpsa.thedev.ca/event/london-cannonballs/2026-09-16/
LOCATION:Stonach Arena & Community Centre\, 1221 Sandford St.\, London\, Ontario\, N5V2J8\, Canada
CATEGORIES:Boccia
ORGANIZER;CN="London Cannonballs":MAILTO:londoncannonballs@gmail.com
END:VEVENT
BEGIN:VEVENT
DTSTART;TZID=America/Toronto:20260923T180000
DTEND;TZID=America/Toronto:20260923T200000
DTSTAMP:20260419T113241
CREATED:20250923T181409Z
LAST-MODIFIED:20250923T181409Z
UID:10000205-1790186400-1790193600@ocpsa.thedev.ca
SUMMARY:London Cannonballs
DESCRIPTION:
URL:https://ocpsa.thedev.ca/event/london-cannonballs/2026-09-23/
LOCATION:Stonach Arena & Community Centre\, 1221 Sandford St.\, London\, Ontario\, N5V2J8\, Canada
CATEGORIES:Boccia
ORGANIZER;CN="London Cannonballs":MAILTO:londoncannonballs@gmail.com
END:VEVENT
BEGIN:VEVENT
DTSTART;TZID=America/Toronto:20260930T180000
DTEND;TZID=America/Toronto:20260930T200000
DTSTAMP:20260419T113241
CREATED:20250923T181409Z
LAST-MODIFIED:20250923T181409Z
UID:10000206-1790791200-1790798400@ocpsa.thedev.ca
SUMMARY:London Cannonballs
DESCRIPTION:
URL:https://ocpsa.thedev.ca/event/london-cannonballs/2026-09-30/
LOCATION:Stonach Arena & Community Centre\, 1221 Sandford St.\, London\, Ontario\, N5V2J8\, Canada
CATEGORIES:Boccia
ORGANIZER;CN="London Cannonballs":MAILTO:londoncannonballs@gmail.com
END:VEVENT
END:VCALENDAR