BEGIN:VCALENDAR
VERSION:2.0
PRODID:-//Ontario Cerebral Palsy Sports Association - ECPv6.15.18//NONSGML v1.0//EN
CALSCALE:GREGORIAN
METHOD:PUBLISH
X-WR-CALNAME:Ontario Cerebral Palsy Sports Association
X-ORIGINAL-URL:https://ocpsa.thedev.ca
X-WR-CALDESC:Events for Ontario Cerebral Palsy Sports Association
REFRESH-INTERVAL;VALUE=DURATION:PT1H
X-Robots-Tag:noindex
X-PUBLISHED-TTL:PT1H
BEGIN:VTIMEZONE
TZID:America/Toronto
BEGIN:DAYLIGHT
TZOFFSETFROM:-0500
TZOFFSETTO:-0400
TZNAME:EDT
DTSTART:20230312T070000
END:DAYLIGHT
BEGIN:STANDARD
TZOFFSETFROM:-0400
TZOFFSETTO:-0500
TZNAME:EST
DTSTART:20231105T060000
END:STANDARD
BEGIN:DAYLIGHT
TZOFFSETFROM:-0500
TZOFFSETTO:-0400
TZNAME:EDT
DTSTART:20240310T070000
END:DAYLIGHT
BEGIN:STANDARD
TZOFFSETFROM:-0400
TZOFFSETTO:-0500
TZNAME:EST
DTSTART:20241103T060000
END:STANDARD
BEGIN:DAYLIGHT
TZOFFSETFROM:-0500
TZOFFSETTO:-0400
TZNAME:EDT
DTSTART:20250309T070000
END:DAYLIGHT
BEGIN:STANDARD
TZOFFSETFROM:-0400
TZOFFSETTO:-0500
TZNAME:EST
DTSTART:20251102T060000
END:STANDARD
END:VTIMEZONE
BEGIN:VEVENT
DTSTART;TZID=America/Toronto:20240310T123000
DTEND;TZID=America/Toronto:20240310T140000
DTSTAMP:20260420T081419
CREATED:20250319T161943Z
LAST-MODIFIED:20250319T161959Z
UID:10000008-1710073800-1710079200@ocpsa.thedev.ca
SUMMARY:Carleton Athletics: Weekly Boccia Practices
DESCRIPTION:The winter session of boccia is back at Carleton! We look forward to seeing community members and students again for our weekly sessions\, starting Jan 28th. Register today! \nDates:  \nEvery Sunday\, Jan 28 to Apr 14\, 2024. \nNo practice on Feb 11 and Mar 31 (university is closed). \nCost:  \n$0 for Carleton students\n$75 for community members (if cost is a limiting factor\, please reach out) \nContact: \nMartha Roblin\, Program Coach\nmartha@ocpsa.com
URL:https://ocpsa.thedev.ca/event/carleton-athletics-weekly-boccia-practices/2024-03-10/
LOCATION:Carleton Athletics – Multipurpose room (on 2nd floor) 2409\, 1125 Colonel By Drive\, Ottawa\, Ontario\, K1S 5B6\, Canada
CATEGORIES:Boccia
ATTACH;FMTTYPE=image/jpeg:https://ocpsa.thedev.ca/wp-content/uploads/2023/08/carleton.jpeg
END:VEVENT
BEGIN:VEVENT
DTSTART;TZID=America/Toronto:20240303T123000
DTEND;TZID=America/Toronto:20240303T140000
DTSTAMP:20260420T081419
CREATED:20250319T161943Z
LAST-MODIFIED:20250319T161959Z
UID:10000007-1709469000-1709474400@ocpsa.thedev.ca
SUMMARY:Carleton Athletics: Weekly Boccia Practices
DESCRIPTION:The winter session of boccia is back at Carleton! We look forward to seeing community members and students again for our weekly sessions\, starting Jan 28th. Register today! \nDates:  \nEvery Sunday\, Jan 28 to Apr 14\, 2024. \nNo practice on Feb 11 and Mar 31 (university is closed). \nCost:  \n$0 for Carleton students\n$75 for community members (if cost is a limiting factor\, please reach out) \nContact: \nMartha Roblin\, Program Coach\nmartha@ocpsa.com
URL:https://ocpsa.thedev.ca/event/carleton-athletics-weekly-boccia-practices/2024-03-03/
LOCATION:Carleton Athletics – Multipurpose room (on 2nd floor) 2409\, 1125 Colonel By Drive\, Ottawa\, Ontario\, K1S 5B6\, Canada
CATEGORIES:Boccia
ATTACH;FMTTYPE=image/jpeg:https://ocpsa.thedev.ca/wp-content/uploads/2023/08/carleton.jpeg
END:VEVENT
BEGIN:VEVENT
DTSTART;TZID=America/Toronto:20240225T123000
DTEND;TZID=America/Toronto:20240225T140000
DTSTAMP:20260420T081419
CREATED:20250319T161943Z
LAST-MODIFIED:20250319T161959Z
UID:10000006-1708864200-1708869600@ocpsa.thedev.ca
SUMMARY:Carleton Athletics: Weekly Boccia Practices
DESCRIPTION:The winter session of boccia is back at Carleton! We look forward to seeing community members and students again for our weekly sessions\, starting Jan 28th. Register today! \nDates:  \nEvery Sunday\, Jan 28 to Apr 14\, 2024. \nNo practice on Feb 11 and Mar 31 (university is closed). \nCost:  \n$0 for Carleton students\n$75 for community members (if cost is a limiting factor\, please reach out) \nContact: \nMartha Roblin\, Program Coach\nmartha@ocpsa.com
URL:https://ocpsa.thedev.ca/event/carleton-athletics-weekly-boccia-practices/2024-02-25/
LOCATION:Carleton Athletics – Multipurpose room (on 2nd floor) 2409\, 1125 Colonel By Drive\, Ottawa\, Ontario\, K1S 5B6\, Canada
CATEGORIES:Boccia
ATTACH;FMTTYPE=image/jpeg:https://ocpsa.thedev.ca/wp-content/uploads/2023/08/carleton.jpeg
END:VEVENT
BEGIN:VEVENT
DTSTART;TZID=America/Toronto:20240218T123000
DTEND;TZID=America/Toronto:20240218T140000
DTSTAMP:20260420T081419
CREATED:20250319T161943Z
LAST-MODIFIED:20250319T161959Z
UID:10000005-1708259400-1708264800@ocpsa.thedev.ca
SUMMARY:Carleton Athletics: Weekly Boccia Practices
DESCRIPTION:The winter session of boccia is back at Carleton! We look forward to seeing community members and students again for our weekly sessions\, starting Jan 28th. Register today! \nDates:  \nEvery Sunday\, Jan 28 to Apr 14\, 2024. \nNo practice on Feb 11 and Mar 31 (university is closed). \nCost:  \n$0 for Carleton students\n$75 for community members (if cost is a limiting factor\, please reach out) \nContact: \nMartha Roblin\, Program Coach\nmartha@ocpsa.com
URL:https://ocpsa.thedev.ca/event/carleton-athletics-weekly-boccia-practices/2024-02-18/
LOCATION:Carleton Athletics – Multipurpose room (on 2nd floor) 2409\, 1125 Colonel By Drive\, Ottawa\, Ontario\, K1S 5B6\, Canada
CATEGORIES:Boccia
ATTACH;FMTTYPE=image/jpeg:https://ocpsa.thedev.ca/wp-content/uploads/2023/08/carleton.jpeg
END:VEVENT
BEGIN:VEVENT
DTSTART;TZID=America/Toronto:20240204T123000
DTEND;TZID=America/Toronto:20240204T140000
DTSTAMP:20260420T081419
CREATED:20250319T161943Z
LAST-MODIFIED:20250319T161959Z
UID:10000004-1707049800-1707055200@ocpsa.thedev.ca
SUMMARY:Carleton Athletics: Weekly Boccia Practices
DESCRIPTION:The winter session of boccia is back at Carleton! We look forward to seeing community members and students again for our weekly sessions\, starting Jan 28th. Register today! \nDates:  \nEvery Sunday\, Jan 28 to Apr 14\, 2024. \nNo practice on Feb 11 and Mar 31 (university is closed). \nCost:  \n$0 for Carleton students\n$75 for community members (if cost is a limiting factor\, please reach out) \nContact: \nMartha Roblin\, Program Coach\nmartha@ocpsa.com
URL:https://ocpsa.thedev.ca/event/carleton-athletics-weekly-boccia-practices/2024-02-04/
LOCATION:Carleton Athletics – Multipurpose room (on 2nd floor) 2409\, 1125 Colonel By Drive\, Ottawa\, Ontario\, K1S 5B6\, Canada
CATEGORIES:Boccia
ATTACH;FMTTYPE=image/jpeg:https://ocpsa.thedev.ca/wp-content/uploads/2023/08/carleton.jpeg
END:VEVENT
BEGIN:VEVENT
DTSTART;TZID=America/Toronto:20240128T123000
DTEND;TZID=America/Toronto:20240128T140000
DTSTAMP:20260420T081419
CREATED:20250319T161943Z
LAST-MODIFIED:20250319T161959Z
UID:10000003-1706445000-1706450400@ocpsa.thedev.ca
SUMMARY:Carleton Athletics: Weekly Boccia Practices
DESCRIPTION:The winter session of boccia is back at Carleton! We look forward to seeing community members and students again for our weekly sessions\, starting Jan 28th. Register today! \nDates:  \nEvery Sunday\, Jan 28 to Apr 14\, 2024. \nNo practice on Feb 11 and Mar 31 (university is closed). \nCost:  \n$0 for Carleton students\n$75 for community members (if cost is a limiting factor\, please reach out) \nContact: \nMartha Roblin\, Program Coach\nmartha@ocpsa.com
URL:https://ocpsa.thedev.ca/event/carleton-athletics-weekly-boccia-practices/2024-01-28/
LOCATION:Carleton Athletics – Multipurpose room (on 2nd floor) 2409\, 1125 Colonel By Drive\, Ottawa\, Ontario\, K1S 5B6\, Canada
CATEGORIES:Boccia
ATTACH;FMTTYPE=image/jpeg:https://ocpsa.thedev.ca/wp-content/uploads/2023/08/carleton.jpeg
END:VEVENT
END:VCALENDAR