BEGIN:VCALENDAR
VERSION:2.0
PRODID:-//Ontario Cerebral Palsy Sports Association - ECPv6.15.18//NONSGML v1.0//EN
CALSCALE:GREGORIAN
METHOD:PUBLISH
X-WR-CALNAME:Ontario Cerebral Palsy Sports Association
X-ORIGINAL-URL:https://ocpsa.thedev.ca
X-WR-CALDESC:Events for Ontario Cerebral Palsy Sports Association
REFRESH-INTERVAL;VALUE=DURATION:PT1H
X-Robots-Tag:noindex
X-PUBLISHED-TTL:PT1H
BEGIN:VTIMEZONE
TZID:America/Toronto
BEGIN:DAYLIGHT
TZOFFSETFROM:-0500
TZOFFSETTO:-0400
TZNAME:EDT
DTSTART:20240310T070000
END:DAYLIGHT
BEGIN:STANDARD
TZOFFSETFROM:-0400
TZOFFSETTO:-0500
TZNAME:EST
DTSTART:20241103T060000
END:STANDARD
BEGIN:DAYLIGHT
TZOFFSETFROM:-0500
TZOFFSETTO:-0400
TZNAME:EDT
DTSTART:20250309T070000
END:DAYLIGHT
BEGIN:STANDARD
TZOFFSETFROM:-0400
TZOFFSETTO:-0500
TZNAME:EST
DTSTART:20251102T060000
END:STANDARD
BEGIN:DAYLIGHT
TZOFFSETFROM:-0500
TZOFFSETTO:-0400
TZNAME:EDT
DTSTART:20260308T070000
END:DAYLIGHT
BEGIN:STANDARD
TZOFFSETFROM:-0400
TZOFFSETTO:-0500
TZNAME:EST
DTSTART:20261101T060000
END:STANDARD
END:VTIMEZONE
BEGIN:VEVENT
DTSTART;VALUE=DATE:20250504
DTEND;VALUE=DATE:20250505
DTSTAMP:20260420T040020
CREATED:20250415T172102Z
LAST-MODIFIED:20250415T172102Z
UID:10000122-1746316800-1746403199@ocpsa.thedev.ca
SUMMARY:Cruisers Classic Para-Athletic Competition
DESCRIPTION:The Cruisers Classic is a Para Athletics meet (track & field) held twice a year – the first weekend in May and in early Fall. The meets are focused on providing the opportunity for para athletes from across the province to compete in an AO sanctioned competition that ensures the facility and officials are equiped to support all para athletics disciplines. While focused on supporting para athletes\, able-bodied competitors are welcome to compete as well.
URL:https://ocpsa.thedev.ca/event/cruisers-classic-para-athletic-competition/
LOCATION:Toronto Track and Field Centre\, 231 Ian MacDonald Blvd.\, North York\, Ontario\, M7A2C5\, Canada
CATEGORIES:Para-Athletics
END:VEVENT
END:VCALENDAR