BEGIN:VCALENDAR
VERSION:2.0
PRODID:-//Ontario Cerebral Palsy Sports Association - ECPv6.15.18//NONSGML v1.0//EN
CALSCALE:GREGORIAN
METHOD:PUBLISH
X-WR-CALNAME:Ontario Cerebral Palsy Sports Association
X-ORIGINAL-URL:https://ocpsa.thedev.ca
X-WR-CALDESC:Events for Ontario Cerebral Palsy Sports Association
REFRESH-INTERVAL;VALUE=DURATION:PT1H
X-Robots-Tag:noindex
X-PUBLISHED-TTL:PT1H
BEGIN:VTIMEZONE
TZID:America/Toronto
BEGIN:DAYLIGHT
TZOFFSETFROM:-0500
TZOFFSETTO:-0400
TZNAME:EDT
DTSTART:20240310T070000
END:DAYLIGHT
BEGIN:STANDARD
TZOFFSETFROM:-0400
TZOFFSETTO:-0500
TZNAME:EST
DTSTART:20241103T060000
END:STANDARD
BEGIN:DAYLIGHT
TZOFFSETFROM:-0500
TZOFFSETTO:-0400
TZNAME:EDT
DTSTART:20250309T070000
END:DAYLIGHT
BEGIN:STANDARD
TZOFFSETFROM:-0400
TZOFFSETTO:-0500
TZNAME:EST
DTSTART:20251102T060000
END:STANDARD
BEGIN:DAYLIGHT
TZOFFSETFROM:-0500
TZOFFSETTO:-0400
TZNAME:EDT
DTSTART:20260308T070000
END:DAYLIGHT
BEGIN:STANDARD
TZOFFSETFROM:-0400
TZOFFSETTO:-0500
TZNAME:EST
DTSTART:20261101T060000
END:STANDARD
END:VTIMEZONE
BEGIN:VEVENT
DTSTART;TZID=America/Toronto:20250525T120000
DTEND;TZID=America/Toronto:20250525T170000
DTSTAMP:20260419T190518
CREATED:20250424T183815Z
LAST-MODIFIED:20250424T184040Z
UID:10000125-1748174400-1748192400@ocpsa.thedev.ca
SUMMARY:Ontario Regional Boccia Series: Ottawa Jacks Qualifier
DESCRIPTION:
URL:https://ocpsa.thedev.ca/event/ontario-regional-boccia-series-ottawa-jacks-qualifier/
LOCATION:RA Centre\, 2451 Riverside Dr\, Ottawa\, Ontario\, K1H 7H7\, Canada
CATEGORIES:Boccia,Regional Boccia Series
ORGANIZER;CN="Ottawa Jacks Boccia Club":MAILTO:ottawajacksbocciaclub@gmail.com
END:VEVENT
END:VCALENDAR