BEGIN:VCALENDAR
VERSION:2.0
PRODID:-//Ontario Cerebral Palsy Sports Association - ECPv6.15.18//NONSGML v1.0//EN
CALSCALE:GREGORIAN
METHOD:PUBLISH
X-ORIGINAL-URL:https://ocpsa.thedev.ca
X-WR-CALDESC:Events for Ontario Cerebral Palsy Sports Association
REFRESH-INTERVAL;VALUE=DURATION:PT1H
X-Robots-Tag:noindex
X-PUBLISHED-TTL:PT1H
BEGIN:VTIMEZONE
TZID:America/Toronto
BEGIN:DAYLIGHT
TZOFFSETFROM:-0500
TZOFFSETTO:-0400
TZNAME:EDT
DTSTART:20240310T070000
END:DAYLIGHT
BEGIN:STANDARD
TZOFFSETFROM:-0400
TZOFFSETTO:-0500
TZNAME:EST
DTSTART:20241103T060000
END:STANDARD
BEGIN:DAYLIGHT
TZOFFSETFROM:-0500
TZOFFSETTO:-0400
TZNAME:EDT
DTSTART:20250309T070000
END:DAYLIGHT
BEGIN:STANDARD
TZOFFSETFROM:-0400
TZOFFSETTO:-0500
TZNAME:EST
DTSTART:20251102T060000
END:STANDARD
BEGIN:DAYLIGHT
TZOFFSETFROM:-0500
TZOFFSETTO:-0400
TZNAME:EDT
DTSTART:20260308T070000
END:DAYLIGHT
BEGIN:STANDARD
TZOFFSETFROM:-0400
TZOFFSETTO:-0500
TZNAME:EST
DTSTART:20261101T060000
END:STANDARD
END:VTIMEZONE
BEGIN:VEVENT
DTSTART;TZID=America/Toronto:20250607T160000
DTEND;TZID=America/Toronto:20250608T160000
DTSTAMP:20260420T020004
CREATED:20250320T171937Z
LAST-MODIFIED:20250520T194733Z
UID:10000019-1749312000-1749398400@ocpsa.thedev.ca
SUMMARY:Ontario Boccia Squad Program: THROWING Training Clinic
DESCRIPTION:REBRANDED: This clinic will now service all throwing athletes:\nBC1 / BC2 / BC4 / BC5 / Senior Open / Junior Open \n  \nClinic Breakdown: \n\nSaturday 4pm – 7pm: Non-sport specific training sessions\, lead by IST technicians (may include strength & conditioning\, nutrition\, mental performance\, media training\, etc.) \nSunday 9am – 4pm: On-court boccia training\, lead by sport coaches\n\nNotes: \n\nIncludes Sunday lunch for 1 athlete and 1 assistant;\nInternal and external travel\, as well as accommodations\, are the responsibility of the athlete;\nNo refunds will be made for unused lunches.
URL:https://ocpsa.thedev.ca/event/ontario-boccia-squad-program-bc4-5-open-junior-training-clinic/
LOCATION:Abilities Centre Whitby\, 1 Jim Flaherty St.\, Whitby\, Ontario\, L1N0J2\, Canada
CATEGORIES:Boccia
ATTACH;FMTTYPE=image/png:https://ocpsa.thedev.ca/wp-content/uploads/2025/02/Logo-maker-project.png
ORGANIZER;CN="Ontario Cerebral Palsy Sports Association":MAILTO:juliana@ocpsa.com
END:VEVENT
BEGIN:VEVENT
DTSTART;TZID=America/Toronto:20250517T160000
DTEND;TZID=America/Toronto:20250518T160000
DTSTAMP:20260420T020004
CREATED:20250320T170929Z
LAST-MODIFIED:20250424T145956Z
UID:10000016-1747497600-1747584000@ocpsa.thedev.ca
SUMMARY:CANCELLED - Ontario Boccia Squad Program: BC1/2 Training Clinic
DESCRIPTION:Due to low registrations\, this camp has been cancelled.  \n  \nBC1/2 Training Clinic: \n\nFocus: Tailored for athletes in the BC1 and BC2 classifications\, this clinic will concentrate on developing skills pertinent to these classifications.\n\nClinic Breakdown: \n\nSaturday 4pm – 7pm: Non-sport specific training sessions\, lead by IST technicians (may include strength & conditioning\, nutrition\, mental performance\, media training\, etc.) \nSunday 9am – 4pm: On-court boccia training\, lead by sport coaches\n\nNotes: \n\nIncludes Sunday lunch for 1 athlete and 1 assistant;\nInternal and external travel\, as well as accommodations\, are the responsibility of the athlete;\nNo refunds will be made for unused lunches;\nBC1 and BC3 athletes are eligible to claim PP support up to $100.\n\nNon-BC1/2 athletes are welcome to register for one of our other 2 training clinics\, designed for their specific classification. Click on the associated link to learn more: \nBC3 Training Clinic \nBC4/5/Open Training Clinic
URL:https://ocpsa.thedev.ca/event/ontario-boccia-squad-program-bc1-2-training-clinic/
LOCATION:Abilities Centre Whitby\, 1 Jim Flaherty St.\, Whitby\, Ontario\, L1N0J2\, Canada
CATEGORIES:Boccia
ATTACH;FMTTYPE=image/png:https://ocpsa.thedev.ca/wp-content/uploads/2025/02/Logo-maker-project.png
ORGANIZER;CN="Ontario Cerebral Palsy Sports Association":MAILTO:juliana@ocpsa.com
END:VEVENT
BEGIN:VEVENT
DTSTART;TZID=America/Toronto:20250412T160000
DTEND;TZID=America/Toronto:20250413T160000
DTSTAMP:20260420T020004
CREATED:20250320T160041Z
LAST-MODIFIED:20250320T160041Z
UID:10000014-1744473600-1744560000@ocpsa.thedev.ca
SUMMARY:Ontario Boccia Squad Program: BC3 Training Clinic
DESCRIPTION:BC3 Training Clinic: \n\nFocus: Designed for athletes in the BC3 classification\, this clinic aims to enhance skills specific to this classification.\n\nClinic Breakdown: \n\nSaturday 4pm – 7pm: Non-sport specific training sessions\, lead by IST technicians (may include strength & conditioning\, nutrition\, mental performance\, media training\, etc.) \nSunday 9am – 4pm: On-court boccia training\, lead by sport coaches\n\nNotes: \n\nIncludes Sunday lunch for 1 athlete and 1 assistant;\nInternal and external travel\, as well as accommodations\, are the responsibility of the athlete;\nNo refunds will be made for unused lunches;\nBC1 and BC3 athletes are eligible to claim PP support up to $100.\n\nNon-BC3 athletes are welcome to register for one of our other 2 training clinics\, designed for their specific classification. Click on the associated link to learn more: \nBC1/2 Training Clinic \nBC4/5/Open Training Clinic
URL:https://ocpsa.thedev.ca/event/ontario-boccia-squad-program-bc3-training-clinic/
LOCATION:Abilities Centre Whitby\, 1 Jim Flaherty St.\, Whitby\, Ontario\, L1N0J2\, Canada
CATEGORIES:Boccia
ATTACH;FMTTYPE=image/png:https://ocpsa.thedev.ca/wp-content/uploads/2025/02/Logo-maker-project.png
ORGANIZER;CN="Ontario Cerebral Palsy Sports Association":MAILTO:juliana@ocpsa.com
END:VEVENT
END:VCALENDAR