BEGIN:VCALENDAR
VERSION:2.0
PRODID:-//Ontario Cerebral Palsy Sports Association - ECPv6.15.18//NONSGML v1.0//EN
CALSCALE:GREGORIAN
METHOD:PUBLISH
X-ORIGINAL-URL:https://ocpsa.thedev.ca
X-WR-CALDESC:Events for Ontario Cerebral Palsy Sports Association
REFRESH-INTERVAL;VALUE=DURATION:PT1H
X-Robots-Tag:noindex
X-PUBLISHED-TTL:PT1H
BEGIN:VTIMEZONE
TZID:America/Toronto
BEGIN:DAYLIGHT
TZOFFSETFROM:-0500
TZOFFSETTO:-0400
TZNAME:EDT
DTSTART:20240310T070000
END:DAYLIGHT
BEGIN:STANDARD
TZOFFSETFROM:-0400
TZOFFSETTO:-0500
TZNAME:EST
DTSTART:20241103T060000
END:STANDARD
BEGIN:DAYLIGHT
TZOFFSETFROM:-0500
TZOFFSETTO:-0400
TZNAME:EDT
DTSTART:20250309T070000
END:DAYLIGHT
BEGIN:STANDARD
TZOFFSETFROM:-0400
TZOFFSETTO:-0500
TZNAME:EST
DTSTART:20251102T060000
END:STANDARD
BEGIN:DAYLIGHT
TZOFFSETFROM:-0500
TZOFFSETTO:-0400
TZNAME:EDT
DTSTART:20260308T070000
END:DAYLIGHT
BEGIN:STANDARD
TZOFFSETFROM:-0400
TZOFFSETTO:-0500
TZNAME:EST
DTSTART:20261101T060000
END:STANDARD
END:VTIMEZONE
BEGIN:VEVENT
DTSTART;VALUE=DATE:20250510
DTEND;VALUE=DATE:20250511
DTSTAMP:20260419T190517
CREATED:20250327T192506Z
LAST-MODIFIED:20250327T213700Z
UID:10000110-1746835200-1746921599@ocpsa.thedev.ca
SUMMARY:Ontario Regional Boccia Series: London Regional Team Qualifier 2025
DESCRIPTION:Join the London Cannonballs for their Regional Team Qualifier! This event is open to all abilities and will be played in a team format (3 player per team). \nAttention Players / Athletes!  Please be reminded that you are responsible for your own arrangements: transportation and accommodation are not being organized for this event. LUNCH WILL BE PROVIDED
URL:https://ocpsa.thedev.ca/event/ontario-regional-boccia-series-london-regional-team-qualifier-2025/
LOCATION:Camp Woodeden\, 2311 Oxford St. W.\, London\, Ontario\, N6K4P1\, Canada
CATEGORIES:Boccia,Regional Boccia Series
ATTACH;FMTTYPE=image/png:https://ocpsa.thedev.ca/wp-content/uploads/2024/01/Ontario-Regional-Boccia-Series-2024.png
ORGANIZER;CN="London Cannonballs":MAILTO:londoncannonballs@gmail.com
END:VEVENT
END:VCALENDAR