BEGIN:VCALENDAR
VERSION:2.0
PRODID:-//Ontario Cerebral Palsy Sports Association - ECPv6.15.18//NONSGML v1.0//EN
CALSCALE:GREGORIAN
METHOD:PUBLISH
X-ORIGINAL-URL:https://ocpsa.thedev.ca
X-WR-CALDESC:Events for Ontario Cerebral Palsy Sports Association
REFRESH-INTERVAL;VALUE=DURATION:PT1H
X-Robots-Tag:noindex
X-PUBLISHED-TTL:PT1H
BEGIN:VTIMEZONE
TZID:America/Toronto
BEGIN:DAYLIGHT
TZOFFSETFROM:-0500
TZOFFSETTO:-0400
TZNAME:EDT
DTSTART:20240310T070000
END:DAYLIGHT
BEGIN:STANDARD
TZOFFSETFROM:-0400
TZOFFSETTO:-0500
TZNAME:EST
DTSTART:20241103T060000
END:STANDARD
BEGIN:DAYLIGHT
TZOFFSETFROM:-0500
TZOFFSETTO:-0400
TZNAME:EDT
DTSTART:20250309T070000
END:DAYLIGHT
BEGIN:STANDARD
TZOFFSETFROM:-0400
TZOFFSETTO:-0500
TZNAME:EST
DTSTART:20251102T060000
END:STANDARD
BEGIN:DAYLIGHT
TZOFFSETFROM:-0500
TZOFFSETTO:-0400
TZNAME:EDT
DTSTART:20260308T070000
END:DAYLIGHT
BEGIN:STANDARD
TZOFFSETFROM:-0400
TZOFFSETTO:-0500
TZNAME:EST
DTSTART:20261101T060000
END:STANDARD
END:VTIMEZONE
BEGIN:VEVENT
DTSTART;TZID=America/Toronto:20250927T150000
DTEND;TZID=America/Toronto:20250927T163000
DTSTAMP:20260419T202324
CREATED:20250923T180540Z
LAST-MODIFIED:20250923T180540Z
UID:10000151-1758985200-1758990600@ocpsa.thedev.ca
SUMMARY:Thunder Bay PowerHockey & Boccia Club: Try It Day
DESCRIPTION:
URL:https://ocpsa.thedev.ca/event/thunder-bay-powerhockey-boccia-club-try-it-day/
LOCATION:Canada Games Complex\, 420 Winnipeg Ave\, Thunder Bay\, Ontario\, P7B6B7\, Canada
CATEGORIES:Boccia
ORGANIZER;CN="Thunder Bay PowerHockey & Boccia Club":MAILTO:tklarner@lakeheadu.ca
END:VEVENT
END:VCALENDAR