BEGIN:VCALENDAR
VERSION:2.0
PRODID:-//Ontario Cerebral Palsy Sports Association - ECPv6.15.18//NONSGML v1.0//EN
CALSCALE:GREGORIAN
METHOD:PUBLISH
X-WR-CALNAME:Ontario Cerebral Palsy Sports Association
X-ORIGINAL-URL:https://ocpsa.thedev.ca
X-WR-CALDESC:Events for Ontario Cerebral Palsy Sports Association
REFRESH-INTERVAL;VALUE=DURATION:PT1H
X-Robots-Tag:noindex
X-PUBLISHED-TTL:PT1H
BEGIN:VTIMEZONE
TZID:America/Toronto
BEGIN:DAYLIGHT
TZOFFSETFROM:-0500
TZOFFSETTO:-0400
TZNAME:EDT
DTSTART:20240310T070000
END:DAYLIGHT
BEGIN:STANDARD
TZOFFSETFROM:-0400
TZOFFSETTO:-0500
TZNAME:EST
DTSTART:20241103T060000
END:STANDARD
BEGIN:DAYLIGHT
TZOFFSETFROM:-0500
TZOFFSETTO:-0400
TZNAME:EDT
DTSTART:20250309T070000
END:DAYLIGHT
BEGIN:STANDARD
TZOFFSETFROM:-0400
TZOFFSETTO:-0500
TZNAME:EST
DTSTART:20251102T060000
END:STANDARD
BEGIN:DAYLIGHT
TZOFFSETFROM:-0500
TZOFFSETTO:-0400
TZNAME:EDT
DTSTART:20260308T070000
END:DAYLIGHT
BEGIN:STANDARD
TZOFFSETFROM:-0400
TZOFFSETTO:-0500
TZNAME:EST
DTSTART:20261101T060000
END:STANDARD
END:VTIMEZONE
BEGIN:VEVENT
DTSTART;TZID=America/Toronto:20251027T173000
DTEND;TZID=America/Toronto:20251027T200000
DTSTAMP:20260419T081831
CREATED:20250320T205735Z
LAST-MODIFIED:20250828T164247Z
UID:10000074-1761586200-1761595200@ocpsa.thedev.ca
SUMMARY:Royal City Boccia Rollers
DESCRIPTION:
URL:https://ocpsa.thedev.ca/event/royal-city-boccia-rollers/2025-10-27/
LOCATION:Evergreen Seniors Community Centre\, 683 Wollwich St.\, Guelph\, Ontario\, N1H3Y8\, Canada
CATEGORIES:Boccia
ORGANIZER;CN="Royal City Boccia Rollers":MAILTO:gwdsmail@gmail.com
END:VEVENT
BEGIN:VEVENT
DTSTART;TZID=America/Toronto:20251020T173000
DTEND;TZID=America/Toronto:20251020T200000
DTSTAMP:20260419T081831
CREATED:20250320T205735Z
LAST-MODIFIED:20250828T164247Z
UID:10000073-1760981400-1760990400@ocpsa.thedev.ca
SUMMARY:Royal City Boccia Rollers
DESCRIPTION:
URL:https://ocpsa.thedev.ca/event/royal-city-boccia-rollers/2025-10-20/
LOCATION:Evergreen Seniors Community Centre\, 683 Wollwich St.\, Guelph\, Ontario\, N1H3Y8\, Canada
CATEGORIES:Boccia
ORGANIZER;CN="Royal City Boccia Rollers":MAILTO:gwdsmail@gmail.com
END:VEVENT
BEGIN:VEVENT
DTSTART;TZID=America/Toronto:20251013T173000
DTEND;TZID=America/Toronto:20251013T200000
DTSTAMP:20260419T081831
CREATED:20250320T205735Z
LAST-MODIFIED:20250828T164247Z
UID:10000072-1760376600-1760385600@ocpsa.thedev.ca
SUMMARY:Royal City Boccia Rollers
DESCRIPTION:
URL:https://ocpsa.thedev.ca/event/royal-city-boccia-rollers/2025-10-13/
LOCATION:Evergreen Seniors Community Centre\, 683 Wollwich St.\, Guelph\, Ontario\, N1H3Y8\, Canada
CATEGORIES:Boccia
ORGANIZER;CN="Royal City Boccia Rollers":MAILTO:gwdsmail@gmail.com
END:VEVENT
BEGIN:VEVENT
DTSTART;TZID=America/Toronto:20251006T173000
DTEND;TZID=America/Toronto:20251006T200000
DTSTAMP:20260419T081831
CREATED:20250320T205735Z
LAST-MODIFIED:20250828T164247Z
UID:10000071-1759771800-1759780800@ocpsa.thedev.ca
SUMMARY:Royal City Boccia Rollers
DESCRIPTION:
URL:https://ocpsa.thedev.ca/event/royal-city-boccia-rollers/2025-10-06/
LOCATION:Evergreen Seniors Community Centre\, 683 Wollwich St.\, Guelph\, Ontario\, N1H3Y8\, Canada
CATEGORIES:Boccia
ORGANIZER;CN="Royal City Boccia Rollers":MAILTO:gwdsmail@gmail.com
END:VEVENT
BEGIN:VEVENT
DTSTART;TZID=America/Toronto:20250929T173000
DTEND;TZID=America/Toronto:20250929T200000
DTSTAMP:20260419T081831
CREATED:20250320T205735Z
LAST-MODIFIED:20250828T164247Z
UID:10000070-1759167000-1759176000@ocpsa.thedev.ca
SUMMARY:Royal City Boccia Rollers
DESCRIPTION:
URL:https://ocpsa.thedev.ca/event/royal-city-boccia-rollers/2025-09-29/
LOCATION:Evergreen Seniors Community Centre\, 683 Wollwich St.\, Guelph\, Ontario\, N1H3Y8\, Canada
CATEGORIES:Boccia
ORGANIZER;CN="Royal City Boccia Rollers":MAILTO:gwdsmail@gmail.com
END:VEVENT
BEGIN:VEVENT
DTSTART;TZID=America/Toronto:20250922T173000
DTEND;TZID=America/Toronto:20250922T200000
DTSTAMP:20260419T081831
CREATED:20250320T205735Z
LAST-MODIFIED:20250828T164247Z
UID:10000069-1758562200-1758571200@ocpsa.thedev.ca
SUMMARY:Royal City Boccia Rollers
DESCRIPTION:
URL:https://ocpsa.thedev.ca/event/royal-city-boccia-rollers/2025-09-22/
LOCATION:Evergreen Seniors Community Centre\, 683 Wollwich St.\, Guelph\, Ontario\, N1H3Y8\, Canada
CATEGORIES:Boccia
ORGANIZER;CN="Royal City Boccia Rollers":MAILTO:gwdsmail@gmail.com
END:VEVENT
BEGIN:VEVENT
DTSTART;TZID=America/Toronto:20250915T173000
DTEND;TZID=America/Toronto:20250915T200000
DTSTAMP:20260419T081831
CREATED:20250320T205735Z
LAST-MODIFIED:20250828T164247Z
UID:10000068-1757957400-1757966400@ocpsa.thedev.ca
SUMMARY:Royal City Boccia Rollers
DESCRIPTION:
URL:https://ocpsa.thedev.ca/event/royal-city-boccia-rollers/2025-09-15/
LOCATION:Evergreen Seniors Community Centre\, 683 Wollwich St.\, Guelph\, Ontario\, N1H3Y8\, Canada
CATEGORIES:Boccia
ORGANIZER;CN="Royal City Boccia Rollers":MAILTO:gwdsmail@gmail.com
END:VEVENT
BEGIN:VEVENT
DTSTART;TZID=America/Toronto:20250908T173000
DTEND;TZID=America/Toronto:20250908T200000
DTSTAMP:20260419T081831
CREATED:20250320T205735Z
LAST-MODIFIED:20250828T164247Z
UID:10000067-1757352600-1757361600@ocpsa.thedev.ca
SUMMARY:Royal City Boccia Rollers
DESCRIPTION:
URL:https://ocpsa.thedev.ca/event/royal-city-boccia-rollers/2025-09-08/
LOCATION:Evergreen Seniors Community Centre\, 683 Wollwich St.\, Guelph\, Ontario\, N1H3Y8\, Canada
CATEGORIES:Boccia
ORGANIZER;CN="Royal City Boccia Rollers":MAILTO:gwdsmail@gmail.com
END:VEVENT
BEGIN:VEVENT
DTSTART;TZID=America/Toronto:20250901T173000
DTEND;TZID=America/Toronto:20250901T200000
DTSTAMP:20260419T081831
CREATED:20250320T205735Z
LAST-MODIFIED:20250828T164247Z
UID:10000066-1756747800-1756756800@ocpsa.thedev.ca
SUMMARY:Royal City Boccia Rollers
DESCRIPTION:
URL:https://ocpsa.thedev.ca/event/royal-city-boccia-rollers/2025-09-01/
LOCATION:Evergreen Seniors Community Centre\, 683 Wollwich St.\, Guelph\, Ontario\, N1H3Y8\, Canada
CATEGORIES:Boccia
ORGANIZER;CN="Royal City Boccia Rollers":MAILTO:gwdsmail@gmail.com
END:VEVENT
BEGIN:VEVENT
DTSTART;TZID=America/Toronto:20250825T173000
DTEND;TZID=America/Toronto:20250825T200000
DTSTAMP:20260419T081831
CREATED:20250320T205735Z
LAST-MODIFIED:20250828T164247Z
UID:10000065-1756143000-1756152000@ocpsa.thedev.ca
SUMMARY:Royal City Boccia Rollers
DESCRIPTION:
URL:https://ocpsa.thedev.ca/event/royal-city-boccia-rollers/2025-08-25/
LOCATION:Evergreen Seniors Community Centre\, 683 Wollwich St.\, Guelph\, Ontario\, N1H3Y8\, Canada
CATEGORIES:Boccia
ORGANIZER;CN="Royal City Boccia Rollers":MAILTO:gwdsmail@gmail.com
END:VEVENT
BEGIN:VEVENT
DTSTART;TZID=America/Toronto:20250818T173000
DTEND;TZID=America/Toronto:20250818T200000
DTSTAMP:20260419T081831
CREATED:20250320T205735Z
LAST-MODIFIED:20250828T164247Z
UID:10000064-1755538200-1755547200@ocpsa.thedev.ca
SUMMARY:Royal City Boccia Rollers
DESCRIPTION:
URL:https://ocpsa.thedev.ca/event/royal-city-boccia-rollers/2025-08-18/
LOCATION:Evergreen Seniors Community Centre\, 683 Wollwich St.\, Guelph\, Ontario\, N1H3Y8\, Canada
CATEGORIES:Boccia
ORGANIZER;CN="Royal City Boccia Rollers":MAILTO:gwdsmail@gmail.com
END:VEVENT
BEGIN:VEVENT
DTSTART;TZID=America/Toronto:20250811T173000
DTEND;TZID=America/Toronto:20250811T200000
DTSTAMP:20260419T081831
CREATED:20250320T205735Z
LAST-MODIFIED:20250828T164247Z
UID:10000063-1754933400-1754942400@ocpsa.thedev.ca
SUMMARY:Royal City Boccia Rollers
DESCRIPTION:
URL:https://ocpsa.thedev.ca/event/royal-city-boccia-rollers/2025-08-11/
LOCATION:Evergreen Seniors Community Centre\, 683 Wollwich St.\, Guelph\, Ontario\, N1H3Y8\, Canada
CATEGORIES:Boccia
ORGANIZER;CN="Royal City Boccia Rollers":MAILTO:gwdsmail@gmail.com
END:VEVENT
BEGIN:VEVENT
DTSTART;TZID=America/Toronto:20250804T173000
DTEND;TZID=America/Toronto:20250804T200000
DTSTAMP:20260419T081831
CREATED:20250320T205735Z
LAST-MODIFIED:20250828T164247Z
UID:10000062-1754328600-1754337600@ocpsa.thedev.ca
SUMMARY:Royal City Boccia Rollers
DESCRIPTION:
URL:https://ocpsa.thedev.ca/event/royal-city-boccia-rollers/2025-08-04/
LOCATION:Evergreen Seniors Community Centre\, 683 Wollwich St.\, Guelph\, Ontario\, N1H3Y8\, Canada
CATEGORIES:Boccia
ORGANIZER;CN="Royal City Boccia Rollers":MAILTO:gwdsmail@gmail.com
END:VEVENT
BEGIN:VEVENT
DTSTART;TZID=America/Toronto:20250728T173000
DTEND;TZID=America/Toronto:20250728T200000
DTSTAMP:20260419T081831
CREATED:20250320T205735Z
LAST-MODIFIED:20250828T164247Z
UID:10000061-1753723800-1753732800@ocpsa.thedev.ca
SUMMARY:Royal City Boccia Rollers
DESCRIPTION:
URL:https://ocpsa.thedev.ca/event/royal-city-boccia-rollers/2025-07-28/
LOCATION:Evergreen Seniors Community Centre\, 683 Wollwich St.\, Guelph\, Ontario\, N1H3Y8\, Canada
CATEGORIES:Boccia
ORGANIZER;CN="Royal City Boccia Rollers":MAILTO:gwdsmail@gmail.com
END:VEVENT
BEGIN:VEVENT
DTSTART;TZID=America/Toronto:20250721T173000
DTEND;TZID=America/Toronto:20250721T200000
DTSTAMP:20260419T081831
CREATED:20250320T205735Z
LAST-MODIFIED:20250828T164247Z
UID:10000060-1753119000-1753128000@ocpsa.thedev.ca
SUMMARY:Royal City Boccia Rollers
DESCRIPTION:
URL:https://ocpsa.thedev.ca/event/royal-city-boccia-rollers/2025-07-21/
LOCATION:Evergreen Seniors Community Centre\, 683 Wollwich St.\, Guelph\, Ontario\, N1H3Y8\, Canada
CATEGORIES:Boccia
ORGANIZER;CN="Royal City Boccia Rollers":MAILTO:gwdsmail@gmail.com
END:VEVENT
BEGIN:VEVENT
DTSTART;TZID=America/Toronto:20250714T173000
DTEND;TZID=America/Toronto:20250714T200000
DTSTAMP:20260419T081831
CREATED:20250320T205735Z
LAST-MODIFIED:20250828T164247Z
UID:10000059-1752514200-1752523200@ocpsa.thedev.ca
SUMMARY:Royal City Boccia Rollers
DESCRIPTION:
URL:https://ocpsa.thedev.ca/event/royal-city-boccia-rollers/2025-07-14/
LOCATION:Evergreen Seniors Community Centre\, 683 Wollwich St.\, Guelph\, Ontario\, N1H3Y8\, Canada
CATEGORIES:Boccia
ORGANIZER;CN="Royal City Boccia Rollers":MAILTO:gwdsmail@gmail.com
END:VEVENT
BEGIN:VEVENT
DTSTART;TZID=America/Toronto:20250707T173000
DTEND;TZID=America/Toronto:20250707T200000
DTSTAMP:20260419T081831
CREATED:20250320T205735Z
LAST-MODIFIED:20250828T164247Z
UID:10000058-1751909400-1751918400@ocpsa.thedev.ca
SUMMARY:Royal City Boccia Rollers
DESCRIPTION:
URL:https://ocpsa.thedev.ca/event/royal-city-boccia-rollers/2025-07-07/
LOCATION:Evergreen Seniors Community Centre\, 683 Wollwich St.\, Guelph\, Ontario\, N1H3Y8\, Canada
CATEGORIES:Boccia
ORGANIZER;CN="Royal City Boccia Rollers":MAILTO:gwdsmail@gmail.com
END:VEVENT
BEGIN:VEVENT
DTSTART;TZID=America/Toronto:20250630T173000
DTEND;TZID=America/Toronto:20250630T200000
DTSTAMP:20260419T081831
CREATED:20250320T205735Z
LAST-MODIFIED:20250828T164247Z
UID:10000057-1751304600-1751313600@ocpsa.thedev.ca
SUMMARY:Royal City Boccia Rollers
DESCRIPTION:
URL:https://ocpsa.thedev.ca/event/royal-city-boccia-rollers/2025-06-30/
LOCATION:Evergreen Seniors Community Centre\, 683 Wollwich St.\, Guelph\, Ontario\, N1H3Y8\, Canada
CATEGORIES:Boccia
ORGANIZER;CN="Royal City Boccia Rollers":MAILTO:gwdsmail@gmail.com
END:VEVENT
BEGIN:VEVENT
DTSTART;TZID=America/Toronto:20250623T173000
DTEND;TZID=America/Toronto:20250623T200000
DTSTAMP:20260419T081831
CREATED:20250320T205735Z
LAST-MODIFIED:20250828T164247Z
UID:10000056-1750699800-1750708800@ocpsa.thedev.ca
SUMMARY:Royal City Boccia Rollers
DESCRIPTION:
URL:https://ocpsa.thedev.ca/event/royal-city-boccia-rollers/2025-06-23/
LOCATION:Evergreen Seniors Community Centre\, 683 Wollwich St.\, Guelph\, Ontario\, N1H3Y8\, Canada
CATEGORIES:Boccia
ORGANIZER;CN="Royal City Boccia Rollers":MAILTO:gwdsmail@gmail.com
END:VEVENT
BEGIN:VEVENT
DTSTART;TZID=America/Toronto:20250616T173000
DTEND;TZID=America/Toronto:20250616T200000
DTSTAMP:20260419T081831
CREATED:20250320T205735Z
LAST-MODIFIED:20250828T164247Z
UID:10000055-1750095000-1750104000@ocpsa.thedev.ca
SUMMARY:Royal City Boccia Rollers
DESCRIPTION:
URL:https://ocpsa.thedev.ca/event/royal-city-boccia-rollers/2025-06-16/
LOCATION:Evergreen Seniors Community Centre\, 683 Wollwich St.\, Guelph\, Ontario\, N1H3Y8\, Canada
CATEGORIES:Boccia
ORGANIZER;CN="Royal City Boccia Rollers":MAILTO:gwdsmail@gmail.com
END:VEVENT
BEGIN:VEVENT
DTSTART;TZID=America/Toronto:20250609T173000
DTEND;TZID=America/Toronto:20250609T200000
DTSTAMP:20260419T081831
CREATED:20250320T205735Z
LAST-MODIFIED:20250828T164247Z
UID:10000054-1749490200-1749499200@ocpsa.thedev.ca
SUMMARY:Royal City Boccia Rollers
DESCRIPTION:
URL:https://ocpsa.thedev.ca/event/royal-city-boccia-rollers/2025-06-09/
LOCATION:Evergreen Seniors Community Centre\, 683 Wollwich St.\, Guelph\, Ontario\, N1H3Y8\, Canada
CATEGORIES:Boccia
ORGANIZER;CN="Royal City Boccia Rollers":MAILTO:gwdsmail@gmail.com
END:VEVENT
BEGIN:VEVENT
DTSTART;TZID=America/Toronto:20250602T173000
DTEND;TZID=America/Toronto:20250602T200000
DTSTAMP:20260419T081831
CREATED:20250320T205735Z
LAST-MODIFIED:20250828T164247Z
UID:10000053-1748885400-1748894400@ocpsa.thedev.ca
SUMMARY:Royal City Boccia Rollers
DESCRIPTION:
URL:https://ocpsa.thedev.ca/event/royal-city-boccia-rollers/2025-06-02/
LOCATION:Evergreen Seniors Community Centre\, 683 Wollwich St.\, Guelph\, Ontario\, N1H3Y8\, Canada
CATEGORIES:Boccia
ORGANIZER;CN="Royal City Boccia Rollers":MAILTO:gwdsmail@gmail.com
END:VEVENT
BEGIN:VEVENT
DTSTART;TZID=America/Toronto:20250526T173000
DTEND;TZID=America/Toronto:20250526T200000
DTSTAMP:20260419T081831
CREATED:20250320T205735Z
LAST-MODIFIED:20250828T164247Z
UID:10000052-1748280600-1748289600@ocpsa.thedev.ca
SUMMARY:Royal City Boccia Rollers
DESCRIPTION:
URL:https://ocpsa.thedev.ca/event/royal-city-boccia-rollers/2025-05-26/
LOCATION:Evergreen Seniors Community Centre\, 683 Wollwich St.\, Guelph\, Ontario\, N1H3Y8\, Canada
CATEGORIES:Boccia
ORGANIZER;CN="Royal City Boccia Rollers":MAILTO:gwdsmail@gmail.com
END:VEVENT
BEGIN:VEVENT
DTSTART;TZID=America/Toronto:20250519T173000
DTEND;TZID=America/Toronto:20250519T200000
DTSTAMP:20260419T081831
CREATED:20250320T205735Z
LAST-MODIFIED:20250828T164247Z
UID:10000051-1747675800-1747684800@ocpsa.thedev.ca
SUMMARY:Royal City Boccia Rollers
DESCRIPTION:
URL:https://ocpsa.thedev.ca/event/royal-city-boccia-rollers/2025-05-19/
LOCATION:Evergreen Seniors Community Centre\, 683 Wollwich St.\, Guelph\, Ontario\, N1H3Y8\, Canada
CATEGORIES:Boccia
ORGANIZER;CN="Royal City Boccia Rollers":MAILTO:gwdsmail@gmail.com
END:VEVENT
BEGIN:VEVENT
DTSTART;TZID=America/Toronto:20250512T173000
DTEND;TZID=America/Toronto:20250512T200000
DTSTAMP:20260419T081831
CREATED:20250320T205735Z
LAST-MODIFIED:20250828T164247Z
UID:10000050-1747071000-1747080000@ocpsa.thedev.ca
SUMMARY:Royal City Boccia Rollers
DESCRIPTION:
URL:https://ocpsa.thedev.ca/event/royal-city-boccia-rollers/2025-05-12/
LOCATION:Evergreen Seniors Community Centre\, 683 Wollwich St.\, Guelph\, Ontario\, N1H3Y8\, Canada
CATEGORIES:Boccia
ORGANIZER;CN="Royal City Boccia Rollers":MAILTO:gwdsmail@gmail.com
END:VEVENT
BEGIN:VEVENT
DTSTART;TZID=America/Toronto:20250505T173000
DTEND;TZID=America/Toronto:20250505T200000
DTSTAMP:20260419T081831
CREATED:20250320T205735Z
LAST-MODIFIED:20250828T164247Z
UID:10000049-1746466200-1746475200@ocpsa.thedev.ca
SUMMARY:Royal City Boccia Rollers
DESCRIPTION:
URL:https://ocpsa.thedev.ca/event/royal-city-boccia-rollers/2025-05-05/
LOCATION:Evergreen Seniors Community Centre\, 683 Wollwich St.\, Guelph\, Ontario\, N1H3Y8\, Canada
CATEGORIES:Boccia
ORGANIZER;CN="Royal City Boccia Rollers":MAILTO:gwdsmail@gmail.com
END:VEVENT
BEGIN:VEVENT
DTSTART;TZID=America/Toronto:20250428T173000
DTEND;TZID=America/Toronto:20250428T200000
DTSTAMP:20260419T081831
CREATED:20250320T205735Z
LAST-MODIFIED:20250828T164247Z
UID:10000048-1745861400-1745870400@ocpsa.thedev.ca
SUMMARY:Royal City Boccia Rollers
DESCRIPTION:
URL:https://ocpsa.thedev.ca/event/royal-city-boccia-rollers/2025-04-28/
LOCATION:Evergreen Seniors Community Centre\, 683 Wollwich St.\, Guelph\, Ontario\, N1H3Y8\, Canada
CATEGORIES:Boccia
ORGANIZER;CN="Royal City Boccia Rollers":MAILTO:gwdsmail@gmail.com
END:VEVENT
BEGIN:VEVENT
DTSTART;TZID=America/Toronto:20250421T173000
DTEND;TZID=America/Toronto:20250421T200000
DTSTAMP:20260419T081831
CREATED:20250320T205735Z
LAST-MODIFIED:20250828T164247Z
UID:10000047-1745256600-1745265600@ocpsa.thedev.ca
SUMMARY:Royal City Boccia Rollers
DESCRIPTION:
URL:https://ocpsa.thedev.ca/event/royal-city-boccia-rollers/2025-04-21/
LOCATION:Evergreen Seniors Community Centre\, 683 Wollwich St.\, Guelph\, Ontario\, N1H3Y8\, Canada
CATEGORIES:Boccia
ORGANIZER;CN="Royal City Boccia Rollers":MAILTO:gwdsmail@gmail.com
END:VEVENT
BEGIN:VEVENT
DTSTART;TZID=America/Toronto:20250414T173000
DTEND;TZID=America/Toronto:20250414T200000
DTSTAMP:20260419T081831
CREATED:20250320T205735Z
LAST-MODIFIED:20250828T164247Z
UID:10000046-1744651800-1744660800@ocpsa.thedev.ca
SUMMARY:Royal City Boccia Rollers
DESCRIPTION:
URL:https://ocpsa.thedev.ca/event/royal-city-boccia-rollers/2025-04-14/
LOCATION:Evergreen Seniors Community Centre\, 683 Wollwich St.\, Guelph\, Ontario\, N1H3Y8\, Canada
CATEGORIES:Boccia
ORGANIZER;CN="Royal City Boccia Rollers":MAILTO:gwdsmail@gmail.com
END:VEVENT
BEGIN:VEVENT
DTSTART;TZID=America/Toronto:20250407T173000
DTEND;TZID=America/Toronto:20250407T200000
DTSTAMP:20260419T081831
CREATED:20250320T205735Z
LAST-MODIFIED:20250828T164247Z
UID:10000045-1744047000-1744056000@ocpsa.thedev.ca
SUMMARY:Royal City Boccia Rollers
DESCRIPTION:
URL:https://ocpsa.thedev.ca/event/royal-city-boccia-rollers/2025-04-07/
LOCATION:Evergreen Seniors Community Centre\, 683 Wollwich St.\, Guelph\, Ontario\, N1H3Y8\, Canada
CATEGORIES:Boccia
ORGANIZER;CN="Royal City Boccia Rollers":MAILTO:gwdsmail@gmail.com
END:VEVENT
END:VCALENDAR