BEGIN:VCALENDAR
VERSION:2.0
PRODID:-//Ontario Cerebral Palsy Sports Association - ECPv6.15.18//NONSGML v1.0//EN
CALSCALE:GREGORIAN
METHOD:PUBLISH
X-WR-CALNAME:Ontario Cerebral Palsy Sports Association
X-ORIGINAL-URL:https://ocpsa.thedev.ca
X-WR-CALDESC:Events for Ontario Cerebral Palsy Sports Association
REFRESH-INTERVAL;VALUE=DURATION:PT1H
X-Robots-Tag:noindex
X-PUBLISHED-TTL:PT1H
BEGIN:VTIMEZONE
TZID:America/Toronto
BEGIN:DAYLIGHT
TZOFFSETFROM:-0500
TZOFFSETTO:-0400
TZNAME:EDT
DTSTART:20240310T070000
END:DAYLIGHT
BEGIN:STANDARD
TZOFFSETFROM:-0400
TZOFFSETTO:-0500
TZNAME:EST
DTSTART:20241103T060000
END:STANDARD
BEGIN:DAYLIGHT
TZOFFSETFROM:-0500
TZOFFSETTO:-0400
TZNAME:EDT
DTSTART:20250309T070000
END:DAYLIGHT
BEGIN:STANDARD
TZOFFSETFROM:-0400
TZOFFSETTO:-0500
TZNAME:EST
DTSTART:20251102T060000
END:STANDARD
BEGIN:DAYLIGHT
TZOFFSETFROM:-0500
TZOFFSETTO:-0400
TZNAME:EDT
DTSTART:20260308T070000
END:DAYLIGHT
BEGIN:STANDARD
TZOFFSETFROM:-0400
TZOFFSETTO:-0500
TZNAME:EST
DTSTART:20261101T060000
END:STANDARD
END:VTIMEZONE
BEGIN:VEVENT
DTSTART;TZID=America/Toronto:20251029T180000
DTEND;TZID=America/Toronto:20251029T200000
DTSTAMP:20260419T081821
CREATED:20250923T181409Z
LAST-MODIFIED:20250923T181409Z
UID:10000158-1761760800-1761768000@ocpsa.thedev.ca
SUMMARY:London Cannonballs
DESCRIPTION:
URL:https://ocpsa.thedev.ca/event/london-cannonballs/2025-10-29/
LOCATION:Stonach Arena & Community Centre\, 1221 Sandford St.\, London\, Ontario\, N5V2J8\, Canada
CATEGORIES:Boccia
ORGANIZER;CN="London Cannonballs":MAILTO:londoncannonballs@gmail.com
END:VEVENT
BEGIN:VEVENT
DTSTART;TZID=America/Toronto:20251022T180000
DTEND;TZID=America/Toronto:20251022T200000
DTSTAMP:20260419T081821
CREATED:20250923T181409Z
LAST-MODIFIED:20250923T181409Z
UID:10000157-1761156000-1761163200@ocpsa.thedev.ca
SUMMARY:London Cannonballs
DESCRIPTION:
URL:https://ocpsa.thedev.ca/event/london-cannonballs/2025-10-22/
LOCATION:Stonach Arena & Community Centre\, 1221 Sandford St.\, London\, Ontario\, N5V2J8\, Canada
CATEGORIES:Boccia
ORGANIZER;CN="London Cannonballs":MAILTO:londoncannonballs@gmail.com
END:VEVENT
BEGIN:VEVENT
DTSTART;TZID=America/Toronto:20251015T180000
DTEND;TZID=America/Toronto:20251015T200000
DTSTAMP:20260419T081821
CREATED:20250923T181409Z
LAST-MODIFIED:20250923T181409Z
UID:10000156-1760551200-1760558400@ocpsa.thedev.ca
SUMMARY:London Cannonballs
DESCRIPTION:
URL:https://ocpsa.thedev.ca/event/london-cannonballs/2025-10-15/
LOCATION:Stonach Arena & Community Centre\, 1221 Sandford St.\, London\, Ontario\, N5V2J8\, Canada
CATEGORIES:Boccia
ORGANIZER;CN="London Cannonballs":MAILTO:londoncannonballs@gmail.com
END:VEVENT
BEGIN:VEVENT
DTSTART;TZID=America/Toronto:20251008T180000
DTEND;TZID=America/Toronto:20251008T200000
DTSTAMP:20260419T081821
CREATED:20250923T181409Z
LAST-MODIFIED:20250923T181409Z
UID:10000155-1759946400-1759953600@ocpsa.thedev.ca
SUMMARY:London Cannonballs
DESCRIPTION:
URL:https://ocpsa.thedev.ca/event/london-cannonballs/2025-10-08/
LOCATION:Stonach Arena & Community Centre\, 1221 Sandford St.\, London\, Ontario\, N5V2J8\, Canada
CATEGORIES:Boccia
ORGANIZER;CN="London Cannonballs":MAILTO:londoncannonballs@gmail.com
END:VEVENT
BEGIN:VEVENT
DTSTART;TZID=America/Toronto:20251001T180000
DTEND;TZID=America/Toronto:20251001T200000
DTSTAMP:20260419T081821
CREATED:20250923T181409Z
LAST-MODIFIED:20250923T181409Z
UID:10000154-1759341600-1759348800@ocpsa.thedev.ca
SUMMARY:London Cannonballs
DESCRIPTION:
URL:https://ocpsa.thedev.ca/event/london-cannonballs/2025-10-01/
LOCATION:Stonach Arena & Community Centre\, 1221 Sandford St.\, London\, Ontario\, N5V2J8\, Canada
CATEGORIES:Boccia
ORGANIZER;CN="London Cannonballs":MAILTO:londoncannonballs@gmail.com
END:VEVENT
BEGIN:VEVENT
DTSTART;TZID=America/Toronto:20250924T180000
DTEND;TZID=America/Toronto:20250924T200000
DTSTAMP:20260419T081821
CREATED:20250923T181409Z
LAST-MODIFIED:20250923T181409Z
UID:10000153-1758736800-1758744000@ocpsa.thedev.ca
SUMMARY:London Cannonballs
DESCRIPTION:
URL:https://ocpsa.thedev.ca/event/london-cannonballs/2025-09-24/
LOCATION:Stonach Arena & Community Centre\, 1221 Sandford St.\, London\, Ontario\, N5V2J8\, Canada
CATEGORIES:Boccia
ORGANIZER;CN="London Cannonballs":MAILTO:londoncannonballs@gmail.com
END:VEVENT
BEGIN:VEVENT
DTSTART;TZID=America/Toronto:20250917T180000
DTEND;TZID=America/Toronto:20250917T200000
DTSTAMP:20260419T081821
CREATED:20250923T181409Z
LAST-MODIFIED:20250923T181409Z
UID:10000152-1758132000-1758139200@ocpsa.thedev.ca
SUMMARY:London Cannonballs
DESCRIPTION:
URL:https://ocpsa.thedev.ca/event/london-cannonballs/2025-09-17/
LOCATION:Stonach Arena & Community Centre\, 1221 Sandford St.\, London\, Ontario\, N5V2J8\, Canada
CATEGORIES:Boccia
ORGANIZER;CN="London Cannonballs":MAILTO:londoncannonballs@gmail.com
END:VEVENT
END:VCALENDAR